BEGIN:VCALENDAR
VERSION:2.0
PRODID:-//Be Sports Formations ASBL
CALSCALE:GREGORIAN
METHOD:PUBLISH
X-WR-CALNAME:Be Sports Formations ASBL
X-ORIGINAL-URL:https://www.besportsformations.be/k-event/sacro-iliaque-blocage-ou-instabilite/
X-WR-CALDESC:Sacro-iliaque : blocage ou instabilité
BEGIN:VEVENT
DTSTART:
DTEND:
SUMMARY:Sacro-iliaque : blocage ou instabilité
DESCRIPTION:
LOCATION:
END:VEVENT
END:VCALENDAR
